BEGIN:VCALENDAR
VERSION:2.0
PRODID:-//The Hastings Center for Bioethics - ECPv6.15.20//NONSGML v1.0//EN
CALSCALE:GREGORIAN
METHOD:PUBLISH
X-WR-CALNAME:The Hastings Center for Bioethics
X-ORIGINAL-URL:https://www.thehastingscenter.org
X-WR-CALDESC:Events for The Hastings Center for Bioethics
REFRESH-INTERVAL;VALUE=DURATION:PT1H
X-Robots-Tag:noindex
X-PUBLISHED-TTL:PT1H
BEGIN:VTIMEZONE
TZID:America/New_York
BEGIN:DAYLIGHT
TZOFFSETFROM:-0500
TZOFFSETTO:-0400
TZNAME:EDT
DTSTART:20250309T070000
END:DAYLIGHT
BEGIN:STANDARD
TZOFFSETFROM:-0400
TZOFFSETTO:-0500
TZNAME:EST
DTSTART:20251102T060000
END:STANDARD
BEGIN:DAYLIGHT
TZOFFSETFROM:-0500
TZOFFSETTO:-0400
TZNAME:EDT
DTSTART:20260308T070000
END:DAYLIGHT
BEGIN:STANDARD
TZOFFSETFROM:-0400
TZOFFSETTO:-0500
TZNAME:EST
DTSTART:20261101T060000
END:STANDARD
BEGIN:DAYLIGHT
TZOFFSETFROM:-0500
TZOFFSETTO:-0400
TZNAME:EDT
DTSTART:20270314T070000
END:DAYLIGHT
BEGIN:STANDARD
TZOFFSETFROM:-0400
TZOFFSETTO:-0500
TZNAME:EST
DTSTART:20271107T060000
END:STANDARD
END:VTIMEZONE
BEGIN:VEVENT
DTSTART;TZID=America/New_York:20261029T070000
DTEND;TZID=America/New_York:20261029T170000
DTSTAMP:20260420T162513
CREATED:20260420T175841Z
LAST-MODIFIED:20260420T175841Z
UID:87163-1793257200-1793293200@www.thehastingscenter.org
SUMMARY:Legacy & Leap: Hindsight\, Foresight\, and a Generation's Impact on Health Innovation
DESCRIPTION:Hastings Center President Vardit Ravitsky will join a wide range of speakers at The Galien Forum\, hosted this year at the New York Academy of Medicine. This Forum provides an entire day of lively discussions featuring Nobel Laureates\, prominent policymakers\, and top industry leaders who share insights on the most pressing health issues of our era\, while showcasing the newest research and clinical approaches to diagnosis\, treatment\, and cure. 
URL:https://www.thehastingscenter.org/hastings-center-event/legacy-leap-hindsight-foresight-and-a-generations-impact-on-health-innovation/
ATTACH;FMTTYPE=image/png:https://www.thehastingscenter.org/wp-content/uploads/Vardit-3.png
END:VEVENT
END:VCALENDAR