BEGIN:VCALENDAR
VERSION:2.0
PRODID:-//The Hastings Center for Bioethics - ECPv6.15.20//NONSGML v1.0//EN
CALSCALE:GREGORIAN
METHOD:PUBLISH
X-WR-CALNAME:The Hastings Center for Bioethics
X-ORIGINAL-URL:https://www.thehastingscenter.org
X-WR-CALDESC:Events for The Hastings Center for Bioethics
REFRESH-INTERVAL;VALUE=DURATION:PT1H
X-Robots-Tag:noindex
X-PUBLISHED-TTL:PT1H
BEGIN:VTIMEZONE
TZID:America/New_York
BEGIN:DAYLIGHT
TZOFFSETFROM:-0500
TZOFFSETTO:-0400
TZNAME:EDT
DTSTART:20220313T070000
END:DAYLIGHT
BEGIN:STANDARD
TZOFFSETFROM:-0400
TZOFFSETTO:-0500
TZNAME:EST
DTSTART:20221106T060000
END:STANDARD
BEGIN:DAYLIGHT
TZOFFSETFROM:-0500
TZOFFSETTO:-0400
TZNAME:EDT
DTSTART:20230312T070000
END:DAYLIGHT
BEGIN:STANDARD
TZOFFSETFROM:-0400
TZOFFSETTO:-0500
TZNAME:EST
DTSTART:20231105T060000
END:STANDARD
BEGIN:DAYLIGHT
TZOFFSETFROM:-0500
TZOFFSETTO:-0400
TZNAME:EDT
DTSTART:20240310T070000
END:DAYLIGHT
BEGIN:STANDARD
TZOFFSETFROM:-0400
TZOFFSETTO:-0500
TZNAME:EST
DTSTART:20241103T060000
END:STANDARD
END:VTIMEZONE
BEGIN:VEVENT
DTSTART;TZID=America/New_York:20230913T120000
DTEND;TZID=America/New_York:20230913T120000
DTSTAMP:20260424T173641
CREATED:20230816T185624Z
LAST-MODIFIED:20240201T153411Z
UID:65152-1694606400-1694606400@www.thehastingscenter.org
SUMMARY:Can AI Improve Health Care for Everyone?
DESCRIPTION:Fast-moving developments in artificial intelligence have far-reaching implications for caregivers\, patients\, and the entire healthcare system. Will the introduction of AI systems improve diagnosis\, treatment\, and research\, bringing better and fairer healthcare to all? Or not? \n\n\n\nPanelists:Dr. Nicol Turner Lee of The Brookings Institute Dr. Danielle Whicher of Mathematica Moderator:Josephine Johnston of The Hastings Center \n\n\n\nSeptember 13\, 2023 \n\n\n\nTRANSCRIPT \n\n\n\nThe AI Bill of Rights: https://www.whitehouse.gov/ostp/ai-bill-of-rights/ \n\n\n\nFDA’s draft guidance on AI: \n\n\n\nhttps://www.fda.gov/medical-devices/medical-devices-news-and-events/cdrh-issues-draft-guidance-predetermined-change-control-plans-artificial-intelligencemachine \n\n\n\nFDA discussion paper on AI: \n\n\n\nhttps://www.fda.gov/files/medical%20devices/published/US-FDA-Artificial-Intelligence-and-Machine-Learning-Discussion-Paper.pdf \n\n\n\nStudy on bias in AI: \n\n\n\nhttps://pubmed.ncbi.nlm.nih.gov/31649194/.
URL:https://www.thehastingscenter.org/hastings-center-event/can-ai-improve-healthcare-for-everyone/
LOCATION:Virtual
CATEGORIES:Virtual Event
ATTACH;FMTTYPE=image/jpeg:https://www.thehastingscenter.org/wp-content/uploads/ai_bias_webinar.jpg
END:VEVENT
END:VCALENDAR